OziExplorer Map Data File Version 2.2
Poa_estrela_popacombr_1970x1419_130603.jpg
C:\____POPA_COM_BR\imagens\estrela\mapas\poa_estrela_popacombr_1970x1419_130603.jpg
1 ,Map Code,
WGS 84,WGS 84, 0.0000, 0.0000,WGS 84
Reserved 1
Reserved 2
Magnetic Variation,15,,E
Map Projection,Latitude/Longitude,PolyCal,No,AutoCalOnly,No,BSBUseWPX,No
Point01,xy, 909, 1175,in, deg, 29, 56.8850,S, 51, 43.4660,W, grid, , , ,S
Point02,xy, 288, 488,in, deg, 29, 37.4376,S, 51, 56.5854,W, grid, , , ,S
Point03,xy, 1278, 1050,in, deg, 29, 55.7110,S, 51, 31.6820,W, grid, , , ,S
Point04,xy, 258, 170,in, deg, 29, 28.3944,S, 51, 57.7506,W, grid, , , ,S
Point05,xy, 1876, 1346,in, deg, 30, 5.6550,S, 51, 15.3750,W, grid, , , ,S
Point06,xy, , ,in, deg, , ,S, , ,W, grid, , , ,S
Point07,xy, , ,in, deg, , ,S, , ,W, grid, , , ,S
Point08,xy, , ,in, deg, , ,S, , ,W, grid, , , ,S
Point09,xy, , ,in, deg, , ,S, , ,W, grid, , , ,S
Point10,xy, , ,in, deg, , ,, , ,, grid, , , ,
Point11,xy, , ,in, deg, , ,, , ,, grid, , , ,
Point12,xy, , ,in, deg, , ,, , ,, grid, , , ,
Point13,xy, , ,in, deg, , ,, , ,, grid, , , ,
Point14,xy, , ,in, deg, , ,, , ,, grid, , , ,
Point15,xy, , ,in, deg, , ,, , ,, grid, , , ,
Point16,xy, , ,in, deg, , ,, , ,, grid, , , ,
Point17,xy, , ,in, deg, , ,, , ,, grid, , , ,
Point18,xy, , ,in, deg, , ,, , ,, grid, , , ,
Point19,xy, , ,in, deg, , ,, , ,, grid, , , ,
Point20,xy, , ,in, deg, , ,, , ,, grid, , , ,
Point21,xy, , ,in, deg, , ,, , ,, grid, , , ,
Point22,xy, , ,in, deg, , ,, , ,, grid, , , ,
Point23,xy, , ,in, deg, , ,, , ,, grid, , , ,
Point24,xy, , ,in, deg, , ,, , ,, grid, , , ,
Point25,xy, , ,in, deg, , ,, , ,, grid, , , ,
Point26,xy, , ,in, deg, , ,, , ,, grid, , , ,
Point27,xy, , ,in, deg, , ,, , ,, grid, , , ,
Point28,xy, , ,in, deg, , ,, , ,, grid, , , ,
Point29,xy, , ,in, deg, , ,, , ,, grid, , , ,
Point30,xy, , ,in, deg, , ,, , ,, grid, , , ,
Projection Setup,,,,,,,,,,
Map Feature = MF ; Map Comment = MC These follow if they exist
Track File = TF These follow if they exist
Moving Map Parameters = MM? These follow if they exist
MM0,Yes
MMPNUM,4
MMPXY,1,0,0
MMPXY,2,1970,0
MMPXY,3,1970,1419
MMPXY,4,0,1419
MMPLL,1, -52.062489, -29.388016
MMPLL,2, -51.106277, -29.528649
MMPLL,3, -51.220031, -30.132267
MMPLL,4, -52.176244, -29.991635
MM1B,46.965315
MOP,Map Open Position,0,0
IWH,Map Image Width/Height,1970,1419
